BEGIN:VCALENDAR
VERSION:2.0
PRODID:-//Northwest Workforce Council - ECPv6.7.0//NONSGML v1.0//EN
CALSCALE:GREGORIAN
METHOD:PUBLISH
X-ORIGINAL-URL:https://nwboard.org
X-WR-CALDESC:Events for Northwest Workforce Council
REFRESH-INTERVAL;VALUE=DURATION:PT1H
X-Robots-Tag:noindex
X-PUBLISHED-TTL:PT1H
BEGIN:VTIMEZONE
TZID:America/Los_Angeles
BEGIN:DAYLIGHT
TZOFFSETFROM:-0800
TZOFFSETTO:-0700
TZNAME:PDT
DTSTART:20230312T100000
END:DAYLIGHT
BEGIN:STANDARD
TZOFFSETFROM:-0700
TZOFFSETTO:-0800
TZNAME:PST
DTSTART:20231105T090000
END:STANDARD
END:VTIMEZONE
BEGIN:VEVENT
DTSTART;TZID=America/Los_Angeles:20231107T140000
DTEND;TZID=America/Los_Angeles:20231107T160000
DTSTAMP:20260423T090005
CREATED:20230308T011552Z
LAST-MODIFIED:20231101T225626Z
UID:716-1699365600-1699372800@nwboard.org
SUMMARY:Executive Meeting
DESCRIPTION:Executive MeetingAgenda  \nMeeting agenda will be available one week prior to meeting. \nClick to view agenda PDF
URL:https://nwboard.org/event/executive-meeting-3/
LOCATION:WorkSource Skagit Board Room\, 2005 E College Way\, Mount Vernon\, WA\, 98273\, United States
CATEGORIES:Executive
END:VEVENT
END:VCALENDAR