BEGIN:VCALENDAR
VERSION:2.0
PRODID:-//Northwest Workforce Council - ECPv6.7.0//NONSGML v1.0//EN
CALSCALE:GREGORIAN
METHOD:PUBLISH
X-WR-CALNAME:Northwest Workforce Council
X-ORIGINAL-URL:https://nwboard.org
X-WR-CALDESC:Events for Northwest Workforce Council
REFRESH-INTERVAL;VALUE=DURATION:PT1H
X-Robots-Tag:noindex
X-PUBLISHED-TTL:PT1H
BEGIN:VTIMEZONE
TZID:America/Los_Angeles
BEGIN:DAYLIGHT
TZOFFSETFROM:-0800
TZOFFSETTO:-0700
TZNAME:PDT
DTSTART:20230312T100000
END:DAYLIGHT
BEGIN:STANDARD
TZOFFSETFROM:-0700
TZOFFSETTO:-0800
TZNAME:PST
DTSTART:20231105T090000
END:STANDARD
END:VTIMEZONE
BEGIN:VEVENT
DTSTART;TZID=America/Los_Angeles:20230802T020000
DTEND;TZID=America/Los_Angeles:20230802T033000
DTSTAMP:20260423T132101
CREATED:20230308T013030Z
LAST-MODIFIED:20230308T013030Z
UID:734-1690941600-1690947000@nwboard.org
SUMMARY:Quality Assurance
DESCRIPTION:
URL:https://nwboard.org/event/quality-assurance-2/
LOCATION:WorkSource Skagit Board Room\, 2005 E College Way\, Mount Vernon\, WA\, 98273\, United States
CATEGORIES:Quality Assurance
END:VEVENT
BEGIN:VEVENT
DTSTART;TZID=America/Los_Angeles:20230802T050000
DTEND;TZID=America/Los_Angeles:20230802T063000
DTSTAMP:20260423T132101
CREATED:20230308T012718Z
LAST-MODIFIED:20230308T012718Z
UID:728-1690952400-1690957800@nwboard.org
SUMMARY:Regional Access Advisory Committee
DESCRIPTION:
URL:https://nwboard.org/event/regional-access-advisory-committee-2/
LOCATION:WorkSource Skagit Board Room\, 2005 E College Way\, Mount Vernon\, WA\, 98273\, United States
CATEGORIES:Regional Access Advisory Committee
END:VEVENT
BEGIN:VEVENT
DTSTART;TZID=America/Los_Angeles:20230802T070000
DTEND;TZID=America/Los_Angeles:20230802T083000
DTSTAMP:20260423T132101
CREATED:20230308T013622Z
LAST-MODIFIED:20230308T013622Z
UID:742-1690959600-1690965000@nwboard.org
SUMMARY:Program Planning
DESCRIPTION:
URL:https://nwboard.org/event/program-planning-2/
LOCATION:WorkSource Skagit Board Room\, 2005 E College Way\, Mount Vernon\, WA\, 98273\, United States
CATEGORIES:Program Planning
END:VEVENT
BEGIN:VEVENT
DTSTART;TZID=America/Los_Angeles:20230823T080000
DTEND;TZID=America/Los_Angeles:20230823T100000
DTSTAMP:20260423T132101
CREATED:20230308T011246Z
LAST-MODIFIED:20230308T011715Z
UID:714-1692777600-1692784800@nwboard.org
SUMMARY:Executive Meeting
DESCRIPTION:
URL:https://nwboard.org/event/executive-meeting-2/
LOCATION:WorkSource Skagit Board Room\, 2005 E College Way\, Mount Vernon\, WA\, 98273\, United States
CATEGORIES:Executive
END:VEVENT
END:VCALENDAR