BEGIN:VCALENDAR
VERSION:2.0
PRODID:-//Northwest Workforce Council - ECPv6.7.0//NONSGML v1.0//EN
CALSCALE:GREGORIAN
METHOD:PUBLISH
X-WR-CALNAME:Northwest Workforce Council
X-ORIGINAL-URL:https://nwboard.org
X-WR-CALDESC:Events for Northwest Workforce Council
REFRESH-INTERVAL;VALUE=DURATION:PT1H
X-Robots-Tag:noindex
X-PUBLISHED-TTL:PT1H
BEGIN:VTIMEZONE
TZID:America/Los_Angeles
BEGIN:DAYLIGHT
TZOFFSETFROM:-0800
TZOFFSETTO:-0700
TZNAME:PDT
DTSTART:20230312T100000
END:DAYLIGHT
BEGIN:STANDARD
TZOFFSETFROM:-0700
TZOFFSETTO:-0800
TZNAME:PST
DTSTART:20231105T090000
END:STANDARD
END:VTIMEZONE
BEGIN:VEVENT
DTSTART;TZID=America/Los_Angeles:20231213T120000
DTEND;TZID=America/Los_Angeles:20231213T133000
DTSTAMP:20260423T061028
CREATED:20230308T013444Z
LAST-MODIFIED:20231121T234047Z
UID:738-1702468800-1702474200@nwboard.org
SUMMARY:Quality Assurance Committee Meeting
DESCRIPTION:
URL:https://nwboard.org/event/quality-assurance-4/
LOCATION:WorkSource Skagit Board Room\, 2005 E College Way\, Mount Vernon\, WA\, 98273\, United States
CATEGORIES:Quality Assurance
END:VEVENT
BEGIN:VEVENT
DTSTART;TZID=America/Los_Angeles:20231213T133000
DTEND;TZID=America/Los_Angeles:20231213T160000
DTSTAMP:20260423T061028
CREATED:20230304T064055Z
LAST-MODIFIED:20231121T234123Z
UID:703-1702474200-1702483200@nwboard.org
SUMMARY:Full Council Meeting
DESCRIPTION:
URL:https://nwboard.org/event/full-council-december-2023/
LOCATION:WorkSource Skagit Board Room\, 2005 E College Way\, Mount Vernon\, WA\, 98273\, United States
CATEGORIES:Full Council
END:VEVENT
END:VCALENDAR