BEGIN:VCALENDAR
VERSION:2.0
PRODID:-//Northwest Workforce Council - ECPv6.7.0//NONSGML v1.0//EN
CALSCALE:GREGORIAN
METHOD:PUBLISH
X-WR-CALNAME:Northwest Workforce Council
X-ORIGINAL-URL:https://nwboard.org
X-WR-CALDESC:Events for Northwest Workforce Council
REFRESH-INTERVAL;VALUE=DURATION:PT1H
X-Robots-Tag:noindex
X-PUBLISHED-TTL:PT1H
BEGIN:VTIMEZONE
TZID:America/Los_Angeles
BEGIN:DAYLIGHT
TZOFFSETFROM:-0800
TZOFFSETTO:-0700
TZNAME:PDT
DTSTART:20240310T100000
END:DAYLIGHT
BEGIN:STANDARD
TZOFFSETFROM:-0700
TZOFFSETTO:-0800
TZNAME:PST
DTSTART:20241103T090000
END:STANDARD
END:VTIMEZONE
BEGIN:VEVENT
DTSTART;TZID=America/Los_Angeles:20240207T090000
DTEND;TZID=America/Los_Angeles:20240207T103000
DTSTAMP:20260423T031709
CREATED:20230913T021315Z
LAST-MODIFIED:20240203T010753Z
UID:1062-1707296400-1707301800@nwboard.org
SUMMARY:Quality Assurance Committee Meeting
DESCRIPTION:Click here for the meeting agenda.
URL:https://nwboard.org/event/quality-assurance-5/
LOCATION:WorkSource Skagit Board Room\, 2005 E College Way\, Mount Vernon\, WA\, 98273\, United States
CATEGORIES:Quality Assurance
END:VEVENT
BEGIN:VEVENT
DTSTART;TZID=America/Los_Angeles:20240207T120000
DTEND;TZID=America/Los_Angeles:20240207T133000
DTSTAMP:20260423T031709
CREATED:20230913T023720Z
LAST-MODIFIED:20240203T011152Z
UID:1081-1707307200-1707312600@nwboard.org
SUMMARY:Regional Access Advisory Committee Meeting
DESCRIPTION:Click here for the meeting agenda.
URL:https://nwboard.org/event/regional-access-advisory-committee-meeting/
LOCATION:WorkSource Skagit Board Room\, 2005 E College Way\, Mount Vernon\, WA\, 98273\, United States
CATEGORIES:Regional Access Advisory Committee
END:VEVENT
BEGIN:VEVENT
DTSTART;TZID=America/Los_Angeles:20240207T140000
DTEND;TZID=America/Los_Angeles:20240207T153000
DTSTAMP:20260423T031709
CREATED:20230913T024257Z
LAST-MODIFIED:20240203T010938Z
UID:1089-1707314400-1707319800@nwboard.org
SUMMARY:Planning Committee Meeting
DESCRIPTION:Click here for the meeting agenda.
URL:https://nwboard.org/event/planning-committee-meeting/
LOCATION:WorkSource Skagit Board Room\, 2005 E College Way\, Mount Vernon\, WA\, 98273\, United States
CATEGORIES:Program Planning
END:VEVENT
END:VCALENDAR